Workbook
Name d0e7393: Supplements!#REF!
Name d0e7400: Supplements!#REF!
Name d0e7407: Supplements!#REF!
Name d0e7641: Supplements!#REF!
Name d0e7702: Supplements!#REF!
Name d0e7714: Supplements!#REF!
Name d0e7721: Supplements!#REF!
Name ftn.d0e7393: Supplements!#REF!
Name ftn.d0e7400: Supplements!#REF!
Name ftn.d0e7407: Supplements!#REF!
Name ftn.d0e7641: Supplements!#REF!
Name ftn.d0e7702: Supplements!#REF!
Name ftn.d0e7714: Supplements!#REF!
Name ftn.d0e7721: Supplements!#REF!
Name ftn.Part7ETable2: Supplements!#REF!
Name Part7EDCtoIN: Supplements!#REF!
Name Part7ETable2: Supplements!#REF!

Sheet Exercises
A2: Financial Calls—Active Deviations
A3: Exercises
A5: Exercise 1―Loss Cost Multiplier (LCM) Rate Deviation Worksheet
A7: Refer to Supplement 1 to find the answers | C7: Enter Your Answers | F7: Then press F9 to check your answers
A8: 1) | B8: Complete the worksheet for the carrier filing | C8: Loss Cost Multiplier (LCM)/Rate Deviation Worksheet
C10: Group Code: | F10: =IF(ISBLANK(D10)=TRUE,"",IF(D10=Answers!B3,CHAR(252),CHAR(251))) | G10: =IF(F10=CHAR(252),Answers!D3,IF(F10=CHAR(251),Answers!E3,""))
C11: State: | F11: =IF(ISBLANK(D11)=TRUE,"",IF(D11=Answers!B4,CHAR(252),CHAR(251))) | G11: =IF(F11=CHAR(252),Answers!D4,IF(F11=CHAR(251),Answers!E4,""))
C12: Active Flag: (Default = Yes) | F12: =IF(ISBLANK(D12)=TRUE,"",IF(D12=Answers!B5,CHAR(252),CHAR(251))) | G12: =IF(F12=CHAR(252),Answers!D5,IF(F12=CHAR(251),Answers!E5,""))
C13: Carrier Code: | F13: =IF(ISBLANK(D13)=TRUE,"",IF(D13=Answers!B6,CHAR(252),CHAR(251))) | G13: =IF(F13=CHAR(252),Answers!D6,IF(F13=CHAR(251),Answers!E6,""))
C14: Carrier Deviation Effective Date: | F14: =IF(ISBLANK(D14)=TRUE,"",IF(D14=Answers!B7,CHAR(252),CHAR(251))) | G14: =IF(F14=CHAR(252),Answers!D7,IF(F14=CHAR(251),Answers!E7,""))
C15: NCCI DSR Level Effective Date: | F15: =IF(ISBLANK(D15)=TRUE,"",IF(D15=Answers!B8,CHAR(252),CHAR(251))) | G15: =IF(F15=CHAR(252),Answers!D8,IF(F15=CHAR(251),Answers!E8,""))
C16: Rolling Multiplier?1 (Yes or No) | F16: =IF(ISBLANK(D16)=TRUE,"",IF(D16=Answers!B9,CHAR(252),CHAR(251))) | G16: =IF(F16=CHAR(252),Answers!D9,IF(F16=CHAR(251),Answers!E9,""))
C17: Filed/Calculated?2 | F17: =IF(ISBLANK(D17)=TRUE,"",IF(D17=Answers!B10,CHAR(252),CHAR(251))) | G17: =IF(F17=CHAR(252),Answers!D10,IF(F17=CHAR(251),Answers!E10,""))
C18: Deviation Amount: | D18: Deviation Amount | E18: % of Business Written
C19: Indicate the Deviation Amount and % of Business Written to which the Deviation Amount applies. For a Loss Cost Multiplier, Deviation Amount = (LCM - 1.0). For a Rate Deviation, Deviation Amount = Rate Deviation expressed as a decimal. The sum of % of Business Written must equal 100% | F19: =IF(ISBLANK(D19)=TRUE,"",IF(AND(D19=Answers!B12,E19=Answers!C12),CHAR(252),CHAR(251))) | G19: =IF(F19=CHAR(252),Answers!D12,IF(F19=CHAR(251),Answers!E12,""))
F20: =IF(ISBLANK(D20)=TRUE,"",IF(AND(D20=Answers!B13,E20=Answers!C13),CHAR(252),CHAR(251))) | G20: =IF(F20=CHAR(252),Answers!D13,IF(F20=CHAR(251),Answers!E13,""))
F21: =IF(ISBLANK(D21)=TRUE,"",IF(AND(D21=Answers!B14,E21=Answers!C14),CHAR(252),CHAR(251))) | G21: =IF(F21=CHAR(252),Answers!D14,IF(F21=CHAR(251),Answers!E14,""))
F22: =IF(ISBLANK(D22)=TRUE,"",IF(AND(D22=Answers!B15,E22=Answers!C15),CHAR(252),CHAR(251))) | G22: =IF(F22=CHAR(252),Answers!D15,IF(F22=CHAR(251),Answers!E15,""))
F23: =IF(ISBLANK(D23)=TRUE,"",IF(AND(D23=Answers!B16,E23=Answers!C16),CHAR(252),CHAR(251))) | G23: =IF(F23=CHAR(252),Answers!D16,IF(F23=CHAR(251),Answers!E16,""))
F24: =IF(ISBLANK(D24)=TRUE,"",IF(AND(D24=Answers!B17,E24=Answers!C17),CHAR(252),CHAR(251))) | G24: =IF(F24=CHAR(252),Answers!D17,IF(F24=CHAR(251),Answers!E17,""))
F25: =IF(ISBLANK(D25)=TRUE,"",IF(AND(D25=Answers!B18,E25=Answers!C18),CHAR(252),CHAR(251))) | G25: =IF(F25=CHAR(252),Answers!D18,IF(F25=CHAR(251),Answers!E18,""))
F26: =IF(ISBLANK(D26)=TRUE,"",IF(AND(D26=Answers!B19,E26=Answers!C19),CHAR(252),CHAR(251))) | G26: =IF(F26=CHAR(252),Answers!D19,IF(F26=CHAR(251),Answers!E19,""))
F27: =IF(ISBLANK(D27)=TRUE,"",IF(AND(D27=Answers!B20,E27=Answers!C20),CHAR(252),CHAR(251))) | G27: =IF(F27=CHAR(252),Answers!D20,IF(F27=CHAR(251),Answers!E20,""))
E28: 1 | F28: =IF(SUM(E19:E27)=0,"",IF(SUM(E19:E27)=100,CHAR(252),CHAR(251))) | G28: =IF(F28=CHAR(252),Answers!D15,IF(F28=CHAR(251),Answers!E15,""))
C29: Comments: (Optional)

Sheet Supplements
A2: Supplement 1
A4: Information in Carrier Filing
A5: Group Code | B5: 16962
A6: Carrier Code | B6: 16962
A7: State | B7: Kansas
A8: NCCI Filing Effective Date | B8: 43831
A9: Carrier Effective Date | B9: 43891
A10: Rolling Multiplier | B10: Y

Sheet Answers
A2: # | B2: Answer | D2: Explanation | E2: Hint
A3: 1) | B3: 16962 | D3: Taken directly from the Supplement tab | E3: Refer to the carrier filing on the Supplement tab
B4: Kansas | D4: Taken directly from the Supplement tab | E4: Refer to the carrier filing on the Supplement tab
B5: Yes | D5: Taken directly from the Supplement tab | E5: Refer to the carrier filing on the Supplement tab
B6: 16962 | D6: Taken directly from the Supplement tab | E6: Refer to the carrier filing on the Supplement tab
B7: 43891 | D7: Taken directly from the Supplement tab | E7: Refer to the carrier filing on the Supplement tab
B8: 43831 | D8: Taken directly from the Supplement tab | E8: Refer to the carrier filing on the Supplement tab
B9: Yes | D9: Taken directly from the Supplement tab | E9: Refer to the carrier filing on the Supplement tab
B10: Calculated | D10: Taken directly from the Supplement tab | E10: Refer to the carrier filing on the Supplement tab
B12: 0.666 | C12: 17 | D12: Per the directions on the worksheet, the deviation is the LCM - 1 | E12: Refer to the directions on the worksheet. Round the % and make sure the total = 100%
B13: 1.303 | C13: 32 | D13: Per the directions on the worksheet, the deviation is the LCM - 1 | E13: Refer to the directions on the worksheet. Round the % and make sure the total = 100%
B14: 0.96 | C14: 51 | D14: Per the directions on the worksheet, the deviation is the LCM - 1 | E14: Refer to the directions on the worksheet. Round the % and make sure the total = 100%
C15: 100 | D15: All premium accounted for | E15: Sum is less than 100%
