Workbook
Name d0e7393: Supplements!#REF!
Name d0e7400: Supplements!#REF!
Name d0e7407: Supplements!#REF!
Name d0e7641: Supplements!#REF!
Name d0e7702: Supplements!#REF!
Name d0e7714: Supplements!#REF!
Name d0e7721: Supplements!#REF!
Name ftn.d0e7393: Supplements!#REF!
Name ftn.d0e7400: Supplements!#REF!
Name ftn.d0e7407: Supplements!#REF!
Name ftn.d0e7641: Supplements!#REF!
Name ftn.d0e7702: Supplements!#REF!
Name ftn.d0e7714: Supplements!#REF!
Name ftn.d0e7721: Supplements!#REF!
Name ftn.Part7ETable2: Supplements!#REF!
Name Part7EDCtoIN: Supplements!#REF!
Name Part7ETable2: Supplements!#REF!

Sheet Exercise 1
B1: Exercise 1
B2: Policy Level–Extending Exposures Method
B3: Class or Stat Code | C3: Description | D3: Exposure | E3: Amounts | F3: Company Standard | G3: DSR Level Premium
B4: 0900 | C4: Expense Constant | D4: ― | E4: $150 per policy | F4: 150 | G4: 0
B5: 5645 | C5: Carpentry―Construction of Residential Dwellings Not Exceeding Three Stories in Height | D5: 765452 | E5: $12.34 manual rate $9.19 loss cost | F5: =D5/100*12.34 -> 94456.777 | G5: =D5/100*9.19 -> 70345.039
B6: 8742 | C6: Salespersons or Collectors―Outside | D6: 155452 | E6: $0.33 manual rate $0.25 loss cost | F6: =D6/100*0.33 -> 512.9916 | G6: =D6/100*0.25 -> 388.63
B7: 9741 | C7: Catastrophe Provisions for Catastrophe (Other Than Certified Acts of Terrorism) | D7: ― | E7: $14 for this policy | F7: 0 | G7: 0
B8: 9812 | C8: Employers Liability Increased Limits with Workers Compensation Coverage ($1,000,000/1,000,000/1,000,000) | D8: ― | E8: 0.028 | F8: =SUM(F5:F6)*0.028 -> 2659.1535 | G8: =SUM(G5:G6)*0.028 -> 1980.5427
C9: Subtotal with Experience Modification Factor | D9: ― | E9: 0.9 | F9: =(F8+F5+F6)*0.9 -> 87866.03 | G9: =(G8+G5+G6)*0.9 -> 65442.79
C11: For this exercise, assume the Designated Statistical Reporting (DSR) Level is loss costs and the state of exposure is Alabama.
C12: To complete this exercise, please select answers for 1A through 1E to complete rerating the policy. Make sure to follow the
C13: order set out in the Basic Manual. To help you start, select which class codes are used to calculate Manual Premium for 1A
C14: and 1B.
C16: Use the Premium Components Chart and Alabama Premium Algorithm from the Basic Manual in the 'Supplements' tab for assistance.
C18: Once you have made selections for 1A-1E, please check your answers in the 'Answer' tab
C20: Premium | D20: Company Standard | E20: DSR Level
C21: Manual | D21: =IFERROR(D22+D23, "") | E21: =IFERROR(E22+E23, "")
B22: 1A | D22: =IFERROR(VLOOKUP(C22, $C$4:$G$9, 4, 0), "") | E22: =IFERROR(VLOOKUP(C22, $C$4:$G$9, 5, 0), "") | F22: =IF(C22="", "PLEASE SELECT A RESPONSE",IF(OR(C22=$C$23, C22=$C$24,C22=$C$26, C22=C$27), "PLEASE CHECK YOUR ANSWERS. NO DUPLICATES.", "")) -> PLEASE SELECT A RESPONSE
B23: 1B | D23: =IFERROR(VLOOKUP(C23, $C$4:$G$9, 4, 0), "") | E23: =IFERROR(VLOOKUP(C23, $C$4:$G$9, 5, 0), "") | F23: =IF(C23="", "PLEASE SELECT A RESPONSE",IF(OR(C23=$C$22, C23=$C$24,C23=$C$26, C23=C$27), "PLEASE CHECK YOUR ANSWERS. NO DUPLICATES.", "")) -> PLEASE SELECT A RESPONSE
B24: 1C | D24: =IFERROR(VLOOKUP(C24, $C$4:$G$9, 4, 0), "") | E24: =IFERROR(VLOOKUP(C24, $C$4:$G$9, 5, 0), "") | F24: =IF(C24="", "PLEASE SELECT A RESPONSE",IF(OR(C24=$C$22, C24=$C$23,C24=$C$26, C24=C$27), "PLEASE CHECK YOUR ANSWERS. NO DUPLICATES.", "")) -> PLEASE SELECT A RESPONSE
C25: Subtotal | D25: =IFERROR(D21+D24,"") | E25: =IFERROR(E21+E24,"")
B26: 1D | D26: =IFERROR(VLOOKUP(C26, $C$4:$G$9, 4, 0), "") | E26: =IFERROR(VLOOKUP(C26, $C$4:$G$9, 5, 0), "") | F26: =IF(C26="", "PLEASE SELECT A RESPONSE",IF(OR(C26=$C$22, C26=$C$23,C26=$C$24, C26=C$27), "PLEASE CHECK YOUR ANSWERS. NO DUPLICATES.", "")) -> PLEASE SELECT A RESPONSE
B27: 1E | D27: =IFERROR(VLOOKUP(C27, $C$4:$G$9, 4, 0), "") | E27: =IFERROR(VLOOKUP(C27, $C$4:$G$9, 5, 0), "") | F27: =IF(C27="", "PLEASE SELECT A RESPONSE",IF(OR(C27=$C$22, C27=$C$23,C27=$C$24, C27=C$26), "PLEASE CHECK YOUR ANSWERS. NO DUPLICATES.", "")) -> PLEASE SELECT A RESPONSE
C28: Total | D28: =IFERROR(D26+D27,"") | E28: =IFERROR(E26+E27,"")

Sheet Supplements
A1: Supplement 1 | H1: Supplement 2

Sheet Answer
B2: Premium | C2: Company Standard | D2: DSR Level
B3: Manual | C3: 94969.768 | D3: 70733.669
B4: Carpentry―Construction of Residential Dwellings Not Exceeding Three Stories in Height | C4: 94456.777 | D4: 70345.039 | E4: =IF(OR(B4='Exercise 1'!$C$22, B4='Exercise 1'!$C$23), "Correct! The first step is to calculate manual premium using class code exposures", "Please check your answer") -> Please check your answer
B5: Salespersons or Collectors―Outside | C5: 512.9916 | D5: 388.63 | E5: =IF(OR(B5='Exercise 1'!$C$22, B5='Exercise 1'!$C$23), "Correct! The first step is to calculate manual premium using class code exposures", "Please check your answer") -> Please check your answer
B6: Employers Liability Increased Limits With Workers Compensation Coverage ($1,000,000/1,000,000/1,000,000) | C6: 2659.1535 | D6: 1980.5427 | E6: =IF(B6='Exercise 1'!C24, "Correct! The next step after calculating manual premium is to calculate the employers liability increased limits premium.", "Please check your answer") -> Please check your answer
B7: Subtotal | C7: 97628.922 | D7: 72714.212
B8: Subtotal With Experience Modification Factor | C8: 87866.03 | D8: 65442.79 | E8: =IF(B8='Exercise 1'!C26, "Correct! The next step after calculating manual premium is to calculate the employers liability increased limits premium.", "Please check your answer") -> Please check your answer
B9: Expense Constant | C9: 150 | D9: 0 | E9: =IF(B9='Exercise 1'!C27, "Correct! The next step after calculating manual premium is to calculate the employers liability increased limits premium.", "Please check your answer") -> Please check your answer
B10: Total | C10: 88016.03 | D10: 65442.79
