Workbook

Sheet Exercise 3
B2: Policy Year 2019 Premium—Exercise 3
B3: Deriving Implied LCM—Average Deviation Method
B4: Class Code | C4: NCCI 3/1/2018 Loss Costs | D4: NCCI 3/1/2019 Loss Costs
B5: 8855 | C5: 0.12 | D5: 0.1
B6: 7720 | C6: 1.24 | D6: 1.34
B7: 7605 | C7: 1.4 | D7: 1.36
B8: 9015 | C8: 1.88 | D8: 2.02
B11: For this exercise, assume the DSR level is loss costs
B12: NCCI DSR Levels in effect for PY 2019 are the 3/1/2018 and 3/1/2019 NCCI loss costs
B13: The carrier adopts the 3/1/2018 loss costs the day they go into effect.
B14: The carrier does not adopt the 3/1/2019 loss costs until 7/1/2019.
B15: To calculate the implied loss cost multiplier for March 2019 through June 2019, we've
B16: included the earned exposure by class code for this time period.
B18: To complete this exercise, please select answers for 3A through 3D:
B19: For 3A–3D, please select the correct loss costs for each class code.
B21: Once you've selected the loss costs for 3A–3D, an implied loss cost multiplier will calculate.
B22: Please check your answers in the 'Answer' tab.
B25: Class Code | C25: Policy Year Earned Exposure 3/1/2019–6/30/2019 | D25: 3/1/2018 Loss Cost Adopted by Carrier | E25: 3/1/2019–6/30/2019 DSR Premium Using 3/1/2018 Loss Costs | F25: 3/1/2019 Loss Cost Not Adopted by Carrier Until 7/1/2019 | G25: 3/1/2019–6/30/2019 DSR Premium Using 3/1/2019 Loss Costs | H25: Change
A26: 3A | B26: 7720 | C26: 10241154 | E26: =IFERROR((C26/100)*D26, "") -> 0 | G26: =IFERROR((C26/100)*F26, "") -> 0 | H26: =IFERROR(G26/E26-1,"") | I26: =IF(OR(D26="",F26=""), "PLEASE SELECT THE 3/1/2018 AND 3/1/2019 LOSS COSTS FOR THIS CLASS CODE", "") -> PLEASE SELECT THE 3/1/2018 AND 3/1/2019 LOSS COSTS FOR THIS CLASS CODE
A27: 3B | B27: 7605 | C27: 2854754 | E27: =IFERROR((C27/100)*D27, "") -> 0 | G27: =IFERROR((C27/100)*F27, "") -> 0 | H27: =IFERROR(G27/E27-1,"") | I27: =IF(OR(D27="",F27=""), "PLEASE SELECT THE 3/1/2018 AND 3/1/2019 LOSS COSTS FOR THIS CLASS CODE", "") -> PLEASE SELECT THE 3/1/2018 AND 3/1/2019 LOSS COSTS FOR THIS CLASS CODE
A28: 3C | B28: 8855 | C28: 21542214 | E28: =IFERROR((C28/100)*D28, "") -> 0 | G28: =IFERROR((C28/100)*F28, "") -> 0 | H28: =IFERROR(G28/E28-1,"") | I28: =IF(OR(D28="",F28=""), "PLEASE SELECT THE 3/1/2018 AND 3/1/2019 LOSS COSTS FOR THIS CLASS CODE", "") -> PLEASE SELECT THE 3/1/2018 AND 3/1/2019 LOSS COSTS FOR THIS CLASS CODE
A29: 3D | B29: =B8 -> 9015 | C29: 5142214 | E29: =IFERROR((C29/100)*D29, "") -> 0 | G29: =IFERROR((C29/100)*F29, "") -> 0 | H29: =IFERROR(G29/E29-1,"") | I29: =IF(OR(D29="",F29=""), "PLEASE SELECT THE 3/1/2018 AND 3/1/2019 LOSS COSTS FOR THIS CLASS CODE", "") -> PLEASE SELECT THE 3/1/2018 AND 3/1/2019 LOSS COSTS FOR THIS CLASS CODE
D30: Total | E30: =SUM(E26:E29) -> 0 | G30: =SUM(G26:G29) -> 0 | H30: =IFERROR(G30/E30-1,"")
B33: Implied Loss Cost Multiplier Calculation
B34: =IF(OR(D26="",D27="",D28="",D29="",F26="",F27="",F28="",F29=""),"","1.400/"&IFERROR(ROUND(H30+1, 3), "")) | C34: =IF(OR(D26="",D27="",D28="",D29="",F26="",F27="",F28="",F29=""),"","= "&TEXT(ROUND(1.4/(H30+1), 3), "0.000"))

Sheet Answer
B2: Class Code | C2: Policy Year Earned Exposure 3/1/2019–6/30/2019 | D2: 3/1/2018 Loss Cost Adopted by Carrier | E2: 3/1/2019–6/30/2019 DSR Premium Using 3/1/2018 Loss Costs | F2: 3/1/2019 Loss Cost Not Adopted by Carrier Until 7/1/2019 | G2: 3/1/2019–6/30/2019 DSR Premium Using 3/1/2019 Loss Costs | H2: Change
B3: 7720 | C3: 10241154 | D3: 1.24 | E3: 126990.31 | F3: 1.34 | G3: 137231.46 | H3: 0.080645161 | I3: =IF(AND(D3='Exercise 3'!D26, F3='Exercise 3'!F26), "Correct! The change in loss costs for this class code is "&TEXT(Answer!H3, "0.0%"), "Please check your answer(s).") -> Please check your answer(s).
B4: 7605 | C4: 2854754 | D4: 1.4 | E4: 39966.556 | F4: 1.36 | G4: 38824.654 | H4: -0.028571429 | I4: =IF(AND(D4='Exercise 3'!D27, F4='Exercise 3'!F27), "Correct! The change in loss costs for this class code is "&TEXT(Answer!H4, "0.0%"), "Please check your answer(s).") -> Please check your answer(s).
B5: 8855 | C5: 21542214 | D5: 0.12 | E5: 25850.657 | F5: 0.1 | G5: 21542.214 | H5: -0.16666667 | I5: =IF(AND(D5='Exercise 3'!D28, F5='Exercise 3'!F28), "Correct! The change in loss costs for this class code is "&TEXT(Answer!H5, "0.0%"), "Please check your answer(s).") -> Please check your answer(s).
B6: 9015 | C6: 5142214 | D6: 1.88 | E6: 96673.623 | F6: 2.02 | G6: 103872.72 | H6: 0.074468085 | I6: =IF(AND(D6='Exercise 3'!D29, F6='Exercise 3'!F29), "Correct! The change in loss costs for this class code is "&TEXT(Answer!H6, "0.0%"), "Please check your answer(s).") -> Please check your answer(s).
D7: Total | E7: 289481.15 | G7: 301471.05 | H7: 0.041418619
B9: Implied Loss Cost Multiplier Calculation
B10: 1.400/1.041 | C10: = 1.344 | D10: =IF(C10='Exercise 3'!C34, "Correct! This is the implied LCM used for the premium from March 2019 through June 2019", "Please check your answer(s)") -> Please check your answer(s)
