Workbook
Name d0e7393: Supplements!#REF!
Name d0e7400: Supplements!#REF!
Name d0e7407: Supplements!#REF!
Name d0e7641: Supplements!#REF!
Name d0e7702: Supplements!#REF!
Name d0e7714: Supplements!#REF!
Name d0e7721: Supplements!#REF!
Name ftn.d0e7393: Supplements!#REF!
Name ftn.d0e7400: Supplements!#REF!
Name ftn.d0e7407: Supplements!#REF!
Name ftn.d0e7641: Supplements!#REF!
Name ftn.d0e7702: Supplements!#REF!
Name ftn.d0e7714: Supplements!#REF!
Name ftn.d0e7721: Supplements!#REF!
Name ftn.Part7ETable2: Supplements!#REF!
Name Part7EDCtoIN: Supplements!#REF!
Name Part7ETable2: Supplements!#REF!

Sheet Exercise 2
B2: Policy Year 2019 Premium—Exercise 2
B3: Deriving DSR Premium—Average Deviation Method
B4: Premium Component | C4: 1/1/2019 Through 7/31/2019 | D4: 8/1/2019 Through 12/31/2019
B5: Balance to Minimum Premium (BTMP) | C5: 32100 | D5: 14552
B6: Company Expense Constant (EC) | C6: 68100 | D6: 33900
B7: Consent to Rate | C7: 854210 | D7: 91544
B8: NCCI Expense Constant (EC) | C8: 34050 | D8: 16950
B9: Premium Discount | C9: -417222 | D9: -188577
B10: Retrospective Rating Plan Adjustments | C10: -546273 | D10: 102111
B11: Schedule Rating | C11: -335844 | D11: -142775
B12: Waiver of Subrogation | C12: 11544 | D12: 2001
B14: Rate Deviation | C14: 0.967 | D14: 1.012
B16: For this exercise, assume the DSR level is rates
B17: To complete this exercise, please select answers for 2A through 2G:
B18: For 2A–2C, please select which components are in Net Premium, but are not reported in Company Standard Premium
B19: For 2D–2E, please select which components are in Company Standard Premium, but are not reported in DSR Premium
B20: For 2F, please select the rate deviation that corresponds to each time period
B21: For 2G, please select which component needs to be added back to arrive at DSR premium
B23: Use the Premium Components Chart in the 'Supplements' tab for assistance
B25: Once you have made selections for 2A-2G, please check your answers in the 'Answer' tab
B27: Policy Period | C27: 1/1/2019 Through 7/31/2019 | D27: 8/1/2019 Through 12/31/2019 | E27: PY 2019 Total
B28: Net Premium | C28: 2315866 | D28: 813425 | E28: =C28+D28 -> 3129291
A29: 2A | C29: =IFERROR(VLOOKUP(B29, $B$5:$D$12, 2, 0), "") | D29: =IFERROR(VLOOKUP(B29, $B$5:$D$12, 3, 0), "") | E29: =IF(B29="", "PLEASE SELECT A RESPONSE",IF(OR(B29=$B$30,B29=$B$31,B29=$B$39,B29=$B$34,B29=$B$35), "PLEASE CHECK YOUR ANSWERS. NO DUPLICATES.", "")) -> PLEASE SELECT A RESPONSE
A30: 2B | C30: =IFERROR(VLOOKUP(B30, $B$5:$D$12, 2, 0), "") | D30: =IFERROR(VLOOKUP(B30, $B$5:$D$12, 3, 0), "") | E30: =IF(B30="", "PLEASE SELECT A RESPONSE",IF(OR(B30=$B$29,B30=$B$31,B30=$B$39,B30=$B$34,B30=$B$35), "PLEASE CHECK YOUR ANSWERS. NO DUPLICATES.", "")) -> PLEASE SELECT A RESPONSE
A31: 2C | C31: =IFERROR(VLOOKUP(B31, $B$5:$D$12, 2, 0), "") | D31: =IFERROR(VLOOKUP(B31, $B$5:$D$12, 3, 0), "") | E31: =IF(B31="", "PLEASE SELECT A RESPONSE",IF(OR(B31=$B$29,B31=$B$30,B31=$B$39,B31=$B$34,B31=$B$35), "PLEASE CHECK YOUR ANSWERS. NO DUPLICATES.", "")) -> PLEASE SELECT A RESPONSE
B32: Company Standard Premium | C32: =IFERROR(C28-C29-C30-C31, "") | D32: =IFERROR(D28-D29-D30-D31, "") | E32: =IFERROR(C32+D32, "")
B33: Balance to Minimum Premium (BTMP) | C33: =IFERROR(VLOOKUP(B33, $B$5:$D$12, 2, 0), "") -> 32100 | D33: =IFERROR(VLOOKUP(B33, $B$5:$D$12, 3, 0), "") -> 14552
A34: 2D | C34: =IFERROR(VLOOKUP(B34, $B$5:$D$12, 2, 0), "") | D34: =IFERROR(VLOOKUP(B34, $B$5:$D$12, 3, 0), "") | E34: =IF(B34="", "PLEASE SELECT A RESPONSE",IF(OR(B34=$B$29,B34=$B$30,B34=$B$31,B34=$B$39,B34=$B$35), "PLEASE CHECK YOUR ANSWERS. NO DUPLICATES.", "")) -> PLEASE SELECT A RESPONSE
A35: 2E | C35: =IFERROR(VLOOKUP(B35, $B$5:$D$12, 2, 0), "") | D35: =IFERROR(VLOOKUP(B35, $B$5:$D$12, 3, 0), "") | E35: =IF(B35="", "PLEASE SELECT A RESPONSE",IF(OR(B35=$B$29,B35=$B$30,B35=$B$31,B35=$B$39,B35=$B$34), "PLEASE CHECK YOUR ANSWERS. NO DUPLICATES.", "")) -> PLEASE SELECT A RESPONSE
B36: Company Standard Premium Used to Calculate DSR Premium | C36: =IFERROR(C32-C33-C34-C35, "") | D36: =IFERROR(D32-D33-D34-D35, "")
A37: 2F | B37: Deviation/LCM | E37: =IF(OR(C37="",D37=""),"PLEASE SELECT A RESPONSE FOR ALL TIME PERIODS", "") -> PLEASE SELECT A RESPONSE FOR ALL TIME PERIODS
B38: DSR Premium Without EC and BTMP | C38: =IFERROR(C36/C37, "") | D38: =IFERROR(D36/D37, "")
A39: 2G | C39: =IFERROR(VLOOKUP(B39, $B$5:$D$12, 2, 0), "") | D39: =IFERROR(VLOOKUP(B39, $B$5:$D$12, 3, 0), "") | E39: =IF(B39="", "PLEASE SELECT A RESPONSE",IF(OR(B39=$B$29,B39=$B$30,B39=$B$31,B39=$B$34,B39=$B$35), "PLEASE CHECK YOUR ANSWERS. NO DUPLICATES.", "")) -> PLEASE SELECT A RESPONSE
B40: Balance to Minimum Premium (BTMP) | C40: =IFERROR(VLOOKUP(B40, $B$5:$D$12, 2, 0), "") -> 32100 | D40: =IFERROR(VLOOKUP(B40, $B$5:$D$12, 3, 0), "") -> 14552
B41: DSR Premium | C41: =IFERROR(C38-C39-C40, "") | D41: =IFERROR(D38-D39-D40, "") | E41: =IFERROR(C41+D41, "")

Sheet Supplements
A1: Supplement 1

Sheet Answer
B2: Policy Period | C2: 1/1/2019 Through 7/31/2019 | D2: 8/1/2019 Through 12/31/2019 | E2: PY 2019 Total
B3: Net Premium | C3: 2315866 | D3: 813425 | E3: 3129291
B4: Premium Discount | C4: -417222 | D4: -188577 | E4: =IF(OR(B4='Exercise 2'!$B$29, B4='Exercise 2'!$B$30, B4='Exercise 2'!$B$31), "Correct! This premium component must be removed from Net Premium to derive Company Standard Premium", "Please check your answer") -> Please check your answer
B5: Retrospective Rating Plan Adjustments | C5: -546273 | D5: 102111 | E5: =IF(OR(B5='Exercise 2'!$B$29, B5='Exercise 2'!$B$30, B5='Exercise 2'!$B$31), "Correct! This premium component must be removed from Net Premium to derive Company Standard Premium", "Please check your answer") -> Please check your answer
B6: Schedule Rating | C6: -335844 | D6: -142775 | E6: =IF(OR(B6='Exercise 2'!$B$29, B6='Exercise 2'!$B$30, B6='Exercise 2'!$B$31), "Correct! This premium component must be removed from Net Premium to derive Company Standard Premium", "Please check your answer") -> Please check your answer
B7: Company Standard Premium | C7: 3615205 | D7: 1042666 | E7: 4657871
B8: Balance to Minimum Premium (BTMP) | C8: 32100 | D8: 14552
B9: Company Expense Constant (EC) | C9: 68100 | D9: 33900 | E9: =IF(OR(B9='Exercise 2'!$B$34, B9='Exercise 2'!$B$35), "Correct! This premium component must be removed from Company Standard to derive DSR Premium", "Please check your answer") -> Please check your answer
B10: Consent to Rate | C10: 854210 | D10: 91544 | E10: =IF(OR(B10='Exercise 2'!$B$34, B10='Exercise 2'!$B$35), "Correct! This premium component must be removed from Company Standard to derive DSR Premium", "Please check your answer") -> Please check your answer
B11: Company Standard Premium Used to Calculate DSR Premium | C11: 2660795 | D11: 902670
B12: Deviation/LCM | C12: 0.967 | D12: 1.012 | E12: =IF(AND(C12='Exercise 2'!$C$37,D12='Exercise 2'!$D$37),"Correct!","Please check your answer") -> Please check your answer
B13: DSR Premium Without EC and BTMP | C13: 2751597.7 | D13: 891966.4
B14: NCCI Expense Constant (EC) | C14: 34050 | D14: 16950 | E14: =IF(B14='Exercise 2'!$B$39, "Correct! This premium component must be removed from Company Standard to derive DSR Premium", "Please check your answer") -> Please check your answer
B15: Balance to Minimum Premium (BTMP) | C15: 32100 | D15: 14552
B16: DSR Premium | C16: 2685447.7 | D16: 860464.4 | E16: 3545912.1
